BEGIN:VCALENDAR
VERSION:2.0
PRODID:icalendar-ruby
CALSCALE:GREGORIAN
METHOD:PUBLISH
BEGIN:VTIMEZONE
TZID:Australia/Brisbane
BEGIN:STANDARD
DTSTART:19920301T020000
TZOFFSETFROM:+1100
TZOFFSETTO:+1000
TZNAME:AEST
END:STANDARD
END:VTIMEZONE
BEGIN:VEVENT
DTSTAMP:20260424T130745Z
UID:inspection_3010242
DTSTART;TZID=Australia/Brisbane:20260424T100000
DTEND;TZID=Australia/Brisbane:20260424T103000
CLASS:PUBLIC
CREATED:20260422T191110
DESCRIPTION: 
LAST-MODIFIED:20260422T191200
LOCATION:26 Cherry Street\, OAKEY QLD 4401\, Australia
SUMMARY:26 Cherry Street\,  Inspection
URL;VALUE=URI:https://www.successrealty.com.au/
END:VEVENT
END:VCALENDAR
